	BEGIN:VCALENDAR
VERSION:2.0
PRODID:-//DOES Office of Paid Family Leave - ECPv5.8.1//NONSGML v1.0//EN
CALSCALE:GREGORIAN
METHOD:PUBLISH
X-WR-CALNAME:DOES Office of Paid Family Leave
X-ORIGINAL-URL:https://dcpaidfamilyleave.dc.gov
X-WR-CALDESC:Events for DOES Office of Paid Family Leave
BEGIN:VTIMEZONE
TZID:UTC
BEGIN:STANDARD
TZOFFSETFROM:+0000
TZOFFSETTO:+0000
TZNAME:UTC
DTSTART:20190101T000000
END:STANDARD
END:VTIMEZONE
BEGIN:VEVENT
DTSTART;TZID=UTC:20190826T120000
DTEND;TZID=UTC:20190826T140000
DTSTAMP:20210727T160739
CREATED:20190812T162304Z
LAST-MODIFIED:20190812T163202Z
UID:2275-1566820800-1566828000@dcpaidfamilyleave.dc.gov
SUMMARY:Restaurant Opportunities Center (ROC) Roundtable
DESCRIPTION:Register
URL:https://dcpaidfamilyleave.dc.gov/event/restaurant-opportunities-center/
LOCATION:DC\, United States
END:VEVENT
END:VCALENDAR